BEGIN:VCALENDAR
VERSION:2.0
PRODID:-//JOANNEUM RESEARCH //NONSGML Events //EN
CALSCALE:GREGORIAN
X-WR-CALNAME:JOANNEUM RESEARCH
BEGIN:VEVENT
UID:106371
DTSTART;VALUE=DATETIME:20260520T133000
DTEND;VALUE=DATETIME:20260520T180000
DTSTAMP:20260420T073443Z
LOCATION:Seggauberg 1, 8430 Leibnitz
DESCRIPTION:In herausfordernden Zeiten stellt sich die Frage, welche Stärken Europas identifiziert werden können und forciert werden müssen, um in einer Welt des Umbruchs eine wesentliche gestaltende Rolle zu spielen.
SUMMARY:Pfingst­dialog: EUROPA(s)STÄRKEN
TRANSP:OPAQUE
END:VEVENT
END:VCALENDAR