BEGIN:VCALENDAR
VERSION:2.0
PRODID:-//JOANNEUM RESEARCH //NONSGML Events //EN
CALSCALE:GREGORIAN
X-WR-CALNAME:JOANNEUM RESEARCH
BEGIN:VEVENT
UID:84878
DTSTART;VALUE=DATETIME:20250923T160000
DTEND;VALUE=DATETIME:20250923T183000
DTSTAMP:20260419T132528Z
LOCATION:Bildungscampus Puntigam,
Gradnerstraße 24
DESCRIPTION:
SUMMARY:Holzbau Erleben Spezial
TRANSP:OPAQUE
END:VEVENT
END:VCALENDAR