BEGIN:VCALENDAR
VERSION:2.0
PRODID:-//JOANNEUM RESEARCH //NONSGML Events //EN
CALSCALE:GREGORIAN
X-WR-CALNAME:JOANNEUM RESEARCH
BEGIN:VEVENT
UID:89751
DTSTART;VALUE=DATETIME:20260428T170000
DTEND;VALUE=DATETIME:20260428T190000
DTSTAMP:20260419T132459Z
LOCATION:Minoritenzentrum Graz
Mariahilferplatz 3, 8020 Graz
DESCRIPTION:Geschäftsmodell Klimawandel: Nachhaltig oder Feigenblatt?
SUMMARY:Teil 4: Balanceakt CO2 - Fürchtet euch nicht!
TRANSP:OPAQUE
END:VEVENT
END:VCALENDAR