BEGIN:VCALENDAR
VERSION:2.0
PRODID:-//ROBOTICS //NONSGML Events //EN
CALSCALE:GREGORIAN
X-WR-CALNAME:ROBOTICS
BEGIN:VEVENT
UID:84992
DTSTART;VALUE=DATETIME:20250924T073000
DTEND;VALUE=DATETIME:20250924T170000
DTSTAMP:20260419T194048Z
LOCATION:WKO Steiermark
Körblergasse 11-113,
8010 Graz
DESCRIPTION:Innovating Tomorrow – Erfolgsfaktor Mechatronik
SUMMARY:Internationales Forum Mechatronik 2025
TRANSP:OPAQUE
END:VEVENT
END:VCALENDAR